BEGIN:VCALENDAR
VERSION:2.0
PRODID:-//Special Olympics Nova Scotia - ECPv6.15.20//NONSGML v1.0//EN
CALSCALE:GREGORIAN
METHOD:PUBLISH
X-ORIGINAL-URL:https://specialolympicsns.ca
X-WR-CALDESC:Events for Special Olympics Nova Scotia
REFRESH-INTERVAL;VALUE=DURATION:PT1H
X-Robots-Tag:noindex
X-PUBLISHED-TTL:PT1H
BEGIN:VTIMEZONE
TZID:America/Halifax
BEGIN:DAYLIGHT
TZOFFSETFROM:-0400
TZOFFSETTO:-0300
TZNAME:ADT
DTSTART:20200308T060000
END:DAYLIGHT
BEGIN:STANDARD
TZOFFSETFROM:-0300
TZOFFSETTO:-0400
TZNAME:AST
DTSTART:20201101T050000
END:STANDARD
BEGIN:DAYLIGHT
TZOFFSETFROM:-0400
TZOFFSETTO:-0300
TZNAME:ADT
DTSTART:20210314T060000
END:DAYLIGHT
BEGIN:STANDARD
TZOFFSETFROM:-0300
TZOFFSETTO:-0400
TZNAME:AST
DTSTART:20211107T050000
END:STANDARD
BEGIN:DAYLIGHT
TZOFFSETFROM:-0400
TZOFFSETTO:-0300
TZNAME:ADT
DTSTART:20220313T060000
END:DAYLIGHT
BEGIN:STANDARD
TZOFFSETFROM:-0300
TZOFFSETTO:-0400
TZNAME:AST
DTSTART:20221106T050000
END:STANDARD
END:VTIMEZONE
BEGIN:VEVENT
DTSTART;VALUE=DATE:20210201
DTEND;VALUE=DATE:20210225
DTSTAMP:20260425T233246
CREATED:20210131T164712Z
LAST-MODIFIED:20210201T160513Z
UID:7108-1612137600-1614211199@specialolympicsns.ca
SUMMARY:The Inspired Appeal & Auction
DESCRIPTION:  \nFor over 25 years\, we presented the signature event of Special Olympics Nova Scotia\, the Inspired Gala. The presentation of the annual Inspired Awards provided thanks and recognition to our athletes\, coaches\, and volunteers for their success\, hard work\, dedication and commitment to Special Olympics Nova Scotia. How our athletes\, volunteers\, and coaches looked forward to celebrating their successes! \nWe all know the challenges of 2020 and Covid-19 has brought to our community and throughout the world. Special Olympics Nova Scotia is no different. Our need\, however\, to provide support\, training\, and sport programs to our athletes continues. \nWe are excited to announce this year we are launching the Inspired Appeal & Auction online starting February 1st. We will conclude with the Online Finale on February 24th starting at 7:30 pm AST when we present our Provincial Awards and Auction wrap-up. Check out the Auction\, items will be added daily – merchandise\, entertainment\, apparel\, sport outings\, Atlantic Bubble trips\, and much more! \nPlease share the auction link with your friends and family. Then join us live on February 24th as we celebrate the achievements of our athletes\, coaches\, volunteers and sponsors! \n \n  \nShare this:\n				Share on Facebook (Opens in new window)\n				Facebook\n			\n				Share on X (Opens in new window)\n				X\n			\n				Share on LinkedIn (Opens in new window)\n				LinkedIn\n			\n				Share on Tumblr (Opens in new window)\n				Tumblr\n			\n				Share on Pinterest (Opens in new window)\n				Pinterest
URL:https://specialolympicsns.ca/event/the-inspired-appeal-auction/
LOCATION:Nova Scotia\, Canada
CATEGORIES:Fundraising
END:VEVENT
END:VCALENDAR