BEGIN:VCALENDAR
VERSION:2.0
PRODID:-//Special Olympics Nova Scotia - ECPv6.15.20//NONSGML v1.0//EN
CALSCALE:GREGORIAN
METHOD:PUBLISH
X-ORIGINAL-URL:https://specialolympicsns.ca
X-WR-CALDESC:Events for Special Olympics Nova Scotia
REFRESH-INTERVAL;VALUE=DURATION:PT1H
X-Robots-Tag:noindex
X-PUBLISHED-TTL:PT1H
BEGIN:VTIMEZONE
TZID:America/Halifax
BEGIN:DAYLIGHT
TZOFFSETFROM:-0400
TZOFFSETTO:-0300
TZNAME:ADT
DTSTART:20220313T060000
END:DAYLIGHT
BEGIN:STANDARD
TZOFFSETFROM:-0300
TZOFFSETTO:-0400
TZNAME:AST
DTSTART:20221106T050000
END:STANDARD
BEGIN:DAYLIGHT
TZOFFSETFROM:-0400
TZOFFSETTO:-0300
TZNAME:ADT
DTSTART:20230312T060000
END:DAYLIGHT
BEGIN:STANDARD
TZOFFSETFROM:-0300
TZOFFSETTO:-0400
TZNAME:AST
DTSTART:20231105T050000
END:STANDARD
BEGIN:DAYLIGHT
TZOFFSETFROM:-0400
TZOFFSETTO:-0300
TZNAME:ADT
DTSTART:20240310T060000
END:DAYLIGHT
BEGIN:STANDARD
TZOFFSETFROM:-0300
TZOFFSETTO:-0400
TZNAME:AST
DTSTART:20241103T050000
END:STANDARD
END:VTIMEZONE
BEGIN:VEVENT
DTSTART;TZID=America/Halifax:20230429T100000
DTEND;TZID=America/Halifax:20230429T130000
DTSTAMP:20260425T123759
CREATED:20230124T214836Z
LAST-MODIFIED:20230321T123909Z
UID:12013-1682762400-1682773200@specialolympicsns.ca
SUMMARY:We are at it again...2023 Polar Plunge hosted by NSLETR
DESCRIPTION:#freezinforareason\n\nIn it’s 6th year\, the ever-popular Halifax Polar Plunge for Special Olympics Nova Scotia  returns on April 29th\, 2023! \nREGISTER HERE \nJoin NSLETR members\, Special Olympics athletes and cheering crowds at Grand Parade Square in Halifax for our Opening Ceremonies\, then be part of the Torch Run to The Queen’s Marque where our BRAAAVE plunges will take a dip in the frigid Halifax Harbour! \nPlan to be a part of the nation’s largest growing Polar Plunge with your local LETR.   Registration is now open! \n\nSONS ATHLETES – REGISTER FOR FREE! \nInterested in becoming a sponsor? CLICK HERE to download our sponsor package \nIMPORTANT INFORMATION FOR PLUNGERS: \n\nPlunger On-site Registration/Check-In:\n\nSaturday\, April 29th\, 2023\nHalifax City Hall\, Grand Parade Square\, 1841 Argyle Street\nRegistration from 10:00 am – 11:00 am\nIf you miss check-in\, you cannot plunge\n\n\nOpening Ceremonies:\n\nWill begin at 11:00 am with opening remarks\nAthletes Pledge\n\n\nTorch Run:\n\nWill begin at 11:30 am\nPlungers & on-lookers will follow members of the NSLETR to the plunge location\n\n\nThe Plunge:\n\nPlunges will begin at 12:00 pm at The Queen’s Marque\, 1715 Lower Water Street\n\n\nBYOT (Bring Your Own Towel)\n\nRaise over $300 for a FREE custom Polar Plunge towel!\n\n\nParking could be a challenge – please come early!\nCostumes are encouraged – The crazier the better!\nCome prepared\, we will have limited facilities to change afterwards\nPlease encourage your friends and family to come watch\n\nFollow the event on FaceBook and Twitter – for all the right reasons! #FreezinForAReason \nShare this:\n				Share on Facebook (Opens in new window)\n				Facebook\n			\n				Share on X (Opens in new window)\n				X\n			\n				Share on LinkedIn (Opens in new window)\n				LinkedIn\n			\n				Share on Tumblr (Opens in new window)\n				Tumblr\n			\n				Share on Pinterest (Opens in new window)\n				Pinterest
URL:https://specialolympicsns.ca/event/polarplunge2023/
LOCATION:Halifax Grand Parade Square\, 1770 Barrington St\, Halifax\, Nova Scotia\, Canada
CATEGORIES:Fundraising
ATTACH;FMTTYPE=image/jpeg:https://specialolympicsns.ca/wp-content/uploads/2023/01/revsons2023PP_vert-copy.jpg
END:VEVENT
END:VCALENDAR