BEGIN:VCALENDAR
VERSION:2.0
PRODID:-//Special Olympics Nova Scotia - ECPv6.15.20//NONSGML v1.0//EN
CALSCALE:GREGORIAN
METHOD:PUBLISH
X-ORIGINAL-URL:https://specialolympicsns.ca
X-WR-CALDESC:Events for Special Olympics Nova Scotia
REFRESH-INTERVAL;VALUE=DURATION:PT1H
X-Robots-Tag:noindex
X-PUBLISHED-TTL:PT1H
BEGIN:VTIMEZONE
TZID:America/Halifax
BEGIN:DAYLIGHT
TZOFFSETFROM:-0400
TZOFFSETTO:-0300
TZNAME:ADT
DTSTART:20190310T060000
END:DAYLIGHT
BEGIN:STANDARD
TZOFFSETFROM:-0300
TZOFFSETTO:-0400
TZNAME:AST
DTSTART:20191103T050000
END:STANDARD
BEGIN:DAYLIGHT
TZOFFSETFROM:-0400
TZOFFSETTO:-0300
TZNAME:ADT
DTSTART:20200308T060000
END:DAYLIGHT
BEGIN:STANDARD
TZOFFSETFROM:-0300
TZOFFSETTO:-0400
TZNAME:AST
DTSTART:20201101T050000
END:STANDARD
BEGIN:DAYLIGHT
TZOFFSETFROM:-0400
TZOFFSETTO:-0300
TZNAME:ADT
DTSTART:20210314T060000
END:DAYLIGHT
BEGIN:STANDARD
TZOFFSETFROM:-0300
TZOFFSETTO:-0400
TZNAME:AST
DTSTART:20211107T050000
END:STANDARD
END:VTIMEZONE
BEGIN:VEVENT
DTSTART;TZID=America/Halifax:20200122T170000
DTEND;TZID=America/Halifax:20200122T210000
DTSTAMP:20260425T001623
CREATED:20190730T164042Z
LAST-MODIFIED:20191125T210920Z
UID:3518-1579712400-1579726800@specialolympicsns.ca
SUMMARY:The Inspired Gala Dinner
DESCRIPTION:The Inspired Gala – A Fundraiser for Special Olympics Nova Scotia\nWednesday\, January 22\, 2020 • Cunard Centre • Halifax Nova Scotia\nSpecial Olympics Nova Scotia\nVisit our Gala website and register at: https://www.specialonsgala.com/\n\n\nJoin us as we celebrate our athletes\, coaches\, volunteers and sponsors at the 26th Annual Inspired Gala!  Be wowed by our athletes\, moved by our coaches and inspired by our volunteers. Win great prizes and browse our fabulous auction items\, all while supporting Special Olympics!\n\nShare this:\n				Share on Facebook (Opens in new window)\n				Facebook\n			\n				Share on X (Opens in new window)\n				X\n			\n				Share on LinkedIn (Opens in new window)\n				LinkedIn\n			\n				Share on Tumblr (Opens in new window)\n				Tumblr\n			\n				Share on Pinterest (Opens in new window)\n				Pinterest
URL:https://specialolympicsns.ca/event/the-inspired-gala/
LOCATION:Cunard Center\, 961 Marginal Road\, Halifax \, Nova Scotia \, Canada
CATEGORIES:Fundraising
ATTACH;FMTTYPE=image/jpeg:https://specialolympicsns.ca/wp-content/uploads/2019/07/Inspired_180x180_Facebook.jpg
END:VEVENT
END:VCALENDAR