BEGIN:VCALENDAR
VERSION:2.0
PRODID:-//Special Olympics Nova Scotia - ECPv6.15.20//NONSGML v1.0//EN
CALSCALE:GREGORIAN
METHOD:PUBLISH
X-WR-CALNAME:Special Olympics Nova Scotia
X-ORIGINAL-URL:https://specialolympicsns.ca
X-WR-CALDESC:Events for Special Olympics Nova Scotia
REFRESH-INTERVAL;VALUE=DURATION:PT1H
X-Robots-Tag:noindex
X-PUBLISHED-TTL:PT1H
BEGIN:VTIMEZONE
TZID:America/Halifax
BEGIN:DAYLIGHT
TZOFFSETFROM:-0400
TZOFFSETTO:-0300
TZNAME:ADT
DTSTART:20240310T060000
END:DAYLIGHT
BEGIN:STANDARD
TZOFFSETFROM:-0300
TZOFFSETTO:-0400
TZNAME:AST
DTSTART:20241103T050000
END:STANDARD
BEGIN:DAYLIGHT
TZOFFSETFROM:-0400
TZOFFSETTO:-0300
TZNAME:ADT
DTSTART:20250309T060000
END:DAYLIGHT
BEGIN:STANDARD
TZOFFSETFROM:-0300
TZOFFSETTO:-0400
TZNAME:AST
DTSTART:20251102T050000
END:STANDARD
BEGIN:DAYLIGHT
TZOFFSETFROM:-0400
TZOFFSETTO:-0300
TZNAME:ADT
DTSTART:20260308T060000
END:DAYLIGHT
BEGIN:STANDARD
TZOFFSETFROM:-0300
TZOFFSETTO:-0400
TZNAME:AST
DTSTART:20261101T050000
END:STANDARD
END:VTIMEZONE
BEGIN:VEVENT
DTSTART;TZID=America/Halifax:20251005T080000
DTEND;TZID=America/Halifax:20251005T120000
DTSTAMP:20260419T200433
CREATED:20250324T181129Z
LAST-MODIFIED:20250324T185841Z
UID:15788-1759651200-1759665600@specialolympicsns.ca
SUMMARY:Truck Convoy 2025 in Support of Special Olympics Nova Scotia
DESCRIPTION:2026 Truck Convoy in Support of Special Olympics Nova Scotia				\n				\n					\n				\n		\n					\n				\n				\n									The 15th Annual Truck Convoy in support of Special Olympics Nova Scotia will take place on Saturday\, October 3rd\, 2026. Truckers from Nova Scotia and beyond will unite with our partners in Law Enforcement (LETR) to support Special Olympics athletes.ONLINE REGISTRATION FOR THE 2026 TRUCK CONVOY IS NOW OPEN \n 								\n				\n					\n				\n		\n					\n				\n				\n					2026 Route				\n				\n					\n				\n		\n					\n				\n				\n																\n															\n															\n				\n					\n				\n				\n		Share this:\n				Share on Facebook (Opens in new window)\n				Facebook\n			\n				Share on X (Opens in new window)\n				X\n			\n				Share on LinkedIn (Opens in new window)\n				LinkedIn\n			\n				Share on Tumblr (Opens in new window)\n				Tumblr\n			\n				Share on Pinterest (Opens in new window)\n				Pinterest
URL:https://specialolympicsns.ca/event/truck-convoy-2025/
END:VEVENT
END:VCALENDAR