BEGIN:VCALENDAR
VERSION:2.0
PRODID:-//Special Olympics Nova Scotia - ECPv6.15.20//NONSGML v1.0//EN
CALSCALE:GREGORIAN
METHOD:PUBLISH
X-ORIGINAL-URL:https://specialolympicsns.ca
X-WR-CALDESC:Events for Special Olympics Nova Scotia
REFRESH-INTERVAL;VALUE=DURATION:PT1H
X-Robots-Tag:noindex
X-PUBLISHED-TTL:PT1H
BEGIN:VTIMEZONE
TZID:America/Halifax
BEGIN:DAYLIGHT
TZOFFSETFROM:-0400
TZOFFSETTO:-0300
TZNAME:ADT
DTSTART:20170312T060000
END:DAYLIGHT
BEGIN:STANDARD
TZOFFSETFROM:-0300
TZOFFSETTO:-0400
TZNAME:AST
DTSTART:20171105T050000
END:STANDARD
BEGIN:DAYLIGHT
TZOFFSETFROM:-0400
TZOFFSETTO:-0300
TZNAME:ADT
DTSTART:20180311T060000
END:DAYLIGHT
BEGIN:STANDARD
TZOFFSETFROM:-0300
TZOFFSETTO:-0400
TZNAME:AST
DTSTART:20181104T050000
END:STANDARD
BEGIN:DAYLIGHT
TZOFFSETFROM:-0400
TZOFFSETTO:-0300
TZNAME:ADT
DTSTART:20190310T060000
END:DAYLIGHT
BEGIN:STANDARD
TZOFFSETFROM:-0300
TZOFFSETTO:-0400
TZNAME:AST
DTSTART:20191103T050000
END:STANDARD
END:VTIMEZONE
BEGIN:VEVENT
DTSTART;TZID=America/Halifax:20181108T180000
DTEND;TZID=America/Halifax:20181108T190000
DTSTAMP:20260421T084133
CREATED:20181101T143834Z
LAST-MODIFIED:20181101T143841Z
UID:3090-1541700000-1541703600@specialolympicsns.ca
SUMMARY:SONS Annual General Meeting (AGM)
DESCRIPTION:2026 Truck Convoy in Support of Special Olympics Nova Scotia				\n				\n					\n				\n		\n					\n				\n				\n									The 15th Annual Truck Convoy in support of Special Olympics Nova Scotia will take place on Saturday\, October 3rd\, 2026. Truckers from Nova Scotia and beyond will unite with our partners in Law Enforcement (LETR) to support Special Olympics athletes.ONLINE REGISTRATION FOR THE 2026 TRUCK CONVOY IS NOW OPEN \n 								\n				\n					\n				\n		\n					\n				\n				\n					2026 Route				\n				\n					\n				\n		\n					\n				\n				\n																\n															\n															\n				\n					\n				\n				\n		Share this:\n				Share on Facebook (Opens in new window)\n				Facebook\n			\n				Share on X (Opens in new window)\n				X\n			\n				Share on LinkedIn (Opens in new window)\n				LinkedIn\n			\n				Share on Tumblr (Opens in new window)\n				Tumblr\n			\n				Share on Pinterest (Opens in new window)\n				Pinterest
URL:https://specialolympicsns.ca/event/sons-annual-general-meeting-agm/
END:VEVENT
BEGIN:VEVENT
DTSTART;VALUE=DATE:20181117
DTEND;VALUE=DATE:20181118
DTSTAMP:20260421T084134
CREATED:20180912T143153Z
LAST-MODIFIED:20180912T144948Z
UID:3016-1542412800-1542499199@specialolympicsns.ca
SUMMARY:Sackville - Bedford Swim Meet
DESCRIPTION:2026 Truck Convoy in Support of Special Olympics Nova Scotia				\n				\n					\n				\n		\n					\n				\n				\n									The 15th Annual Truck Convoy in support of Special Olympics Nova Scotia will take place on Saturday\, October 3rd\, 2026. Truckers from Nova Scotia and beyond will unite with our partners in Law Enforcement (LETR) to support Special Olympics athletes.ONLINE REGISTRATION FOR THE 2026 TRUCK CONVOY IS NOW OPEN \n 								\n				\n					\n				\n		\n					\n				\n				\n					2026 Route				\n				\n					\n				\n		\n					\n				\n				\n																\n															\n															\n				\n					\n				\n				\n		Share this:\n				Share on Facebook (Opens in new window)\n				Facebook\n			\n				Share on X (Opens in new window)\n				X\n			\n				Share on LinkedIn (Opens in new window)\n				LinkedIn\n			\n				Share on Tumblr (Opens in new window)\n				Tumblr\n			\n				Share on Pinterest (Opens in new window)\n				Pinterest
URL:https://specialolympicsns.ca/event/sackville-bedford-swim-meet/
END:VEVENT
END:VCALENDAR