BEGIN:VCALENDAR
VERSION:2.0
PRODID:-//Special Olympics Nova Scotia - ECPv6.15.20//NONSGML v1.0//EN
CALSCALE:GREGORIAN
METHOD:PUBLISH
X-WR-CALNAME:Special Olympics Nova Scotia
X-ORIGINAL-URL:https://specialolympicsns.ca
X-WR-CALDESC:Events for Special Olympics Nova Scotia
REFRESH-INTERVAL;VALUE=DURATION:PT1H
X-Robots-Tag:noindex
X-PUBLISHED-TTL:PT1H
BEGIN:VTIMEZONE
TZID:America/Halifax
BEGIN:DAYLIGHT
TZOFFSETFROM:-0400
TZOFFSETTO:-0300
TZNAME:ADT
DTSTART:20170312T060000
END:DAYLIGHT
BEGIN:STANDARD
TZOFFSETFROM:-0300
TZOFFSETTO:-0400
TZNAME:AST
DTSTART:20171105T050000
END:STANDARD
BEGIN:DAYLIGHT
TZOFFSETFROM:-0400
TZOFFSETTO:-0300
TZNAME:ADT
DTSTART:20180311T060000
END:DAYLIGHT
BEGIN:STANDARD
TZOFFSETFROM:-0300
TZOFFSETTO:-0400
TZNAME:AST
DTSTART:20181104T050000
END:STANDARD
BEGIN:DAYLIGHT
TZOFFSETFROM:-0400
TZOFFSETTO:-0300
TZNAME:ADT
DTSTART:20190310T060000
END:DAYLIGHT
BEGIN:STANDARD
TZOFFSETFROM:-0300
TZOFFSETTO:-0400
TZNAME:AST
DTSTART:20191103T050000
END:STANDARD
END:VTIMEZONE
BEGIN:VEVENT
DTSTART;TZID=America/Halifax:20180608T170000
DTEND;TZID=America/Halifax:20180610T150000
DTSTAMP:20260421T155521
CREATED:20180412T185550Z
LAST-MODIFIED:20180610T150804Z
UID:2061-1528477200-1528642800@specialolympicsns.ca
SUMMARY:2018 Provincial Summer Games
DESCRIPTION:2026 Truck Convoy in Support of Special Olympics Nova Scotia				\n				\n					\n				\n		\n					\n				\n				\n									The 15th Annual Truck Convoy in support of Special Olympics Nova Scotia will take place on Saturday\, October 3rd\, 2026. Truckers from Nova Scotia and beyond will unite with our partners in Law Enforcement (LETR) to support Special Olympics athletes.ONLINE REGISTRATION FOR THE 2026 TRUCK CONVOY IS NOW OPEN \n 								\n				\n					\n				\n		\n					\n				\n				\n					2026 Route				\n				\n					\n				\n		\n					\n				\n				\n																\n															\n															\n				\n					\n				\n				\n		Share this:\n				Share on Facebook (Opens in new window)\n				Facebook\n			\n				Share on X (Opens in new window)\n				X\n			\n				Share on LinkedIn (Opens in new window)\n				LinkedIn\n			\n				Share on Tumblr (Opens in new window)\n				Tumblr\n			\n				Share on Pinterest (Opens in new window)\n				Pinterest
URL:https://specialolympicsns.ca/event/summer-games/
CATEGORIES:Sport Competition
ATTACH;FMTTYPE=image/png:https://specialolympicsns.ca/wp-content/uploads/2018/06/Sun-June-10-SONS-prov-Schedule.png
END:VEVENT
BEGIN:VEVENT
DTSTART;VALUE=DATE:20180609
DTEND;VALUE=DATE:20180610
DTSTAMP:20260421T155522
CREATED:20180609T122331Z
LAST-MODIFIED:20180610T150737Z
UID:2340-1528502400-1528588799@specialolympicsns.ca
SUMMARY:Day 2 NS Provincial Summer Games
DESCRIPTION:2026 Truck Convoy in Support of Special Olympics Nova Scotia				\n				\n					\n				\n		\n					\n				\n				\n									The 15th Annual Truck Convoy in support of Special Olympics Nova Scotia will take place on Saturday\, October 3rd\, 2026. Truckers from Nova Scotia and beyond will unite with our partners in Law Enforcement (LETR) to support Special Olympics athletes.ONLINE REGISTRATION FOR THE 2026 TRUCK CONVOY IS NOW OPEN \n 								\n				\n					\n				\n		\n					\n				\n				\n					2026 Route				\n				\n					\n				\n		\n					\n				\n				\n																\n															\n															\n				\n					\n				\n				\n		Share this:\n				Share on Facebook (Opens in new window)\n				Facebook\n			\n				Share on X (Opens in new window)\n				X\n			\n				Share on LinkedIn (Opens in new window)\n				LinkedIn\n			\n				Share on Tumblr (Opens in new window)\n				Tumblr\n			\n				Share on Pinterest (Opens in new window)\n				Pinterest
URL:https://specialolympicsns.ca/event/day-2-ns-provincial-summer-games/
LOCATION:Saint Mary’s University – Homburg Centre\, 920 Tower Road\, Halifax\, NS\, B3H 3C3\, Canada
CATEGORIES:Sport Competition
ATTACH;FMTTYPE=image/png:https://specialolympicsns.ca/wp-content/uploads/2018/06/Sat-june-9-SONS-Schedule-.png
END:VEVENT
END:VCALENDAR