BEGIN:VCALENDAR
VERSION:2.0
PRODID:-//Special Olympics Nova Scotia - ECPv6.15.20//NONSGML v1.0//EN
CALSCALE:GREGORIAN
METHOD:PUBLISH
X-ORIGINAL-URL:https://specialolympicsns.ca
X-WR-CALDESC:Events for Special Olympics Nova Scotia
REFRESH-INTERVAL;VALUE=DURATION:PT1H
X-Robots-Tag:noindex
X-PUBLISHED-TTL:PT1H
BEGIN:VTIMEZONE
TZID:America/Halifax
BEGIN:DAYLIGHT
TZOFFSETFROM:-0400
TZOFFSETTO:-0300
TZNAME:ADT
DTSTART:20150308T060000
END:DAYLIGHT
BEGIN:STANDARD
TZOFFSETFROM:-0300
TZOFFSETTO:-0400
TZNAME:AST
DTSTART:20151101T050000
END:STANDARD
BEGIN:DAYLIGHT
TZOFFSETFROM:-0400
TZOFFSETTO:-0300
TZNAME:ADT
DTSTART:20160313T060000
END:DAYLIGHT
BEGIN:STANDARD
TZOFFSETFROM:-0300
TZOFFSETTO:-0400
TZNAME:AST
DTSTART:20161106T050000
END:STANDARD
BEGIN:DAYLIGHT
TZOFFSETFROM:-0400
TZOFFSETTO:-0300
TZNAME:ADT
DTSTART:20170312T060000
END:DAYLIGHT
BEGIN:STANDARD
TZOFFSETFROM:-0300
TZOFFSETTO:-0400
TZNAME:AST
DTSTART:20171105T050000
END:STANDARD
END:VTIMEZONE
BEGIN:VEVENT
DTSTART;VALUE=DATE:20160924
DTEND;VALUE=DATE:20160925
DTSTAMP:20260423T085400
CREATED:20160501T143235Z
LAST-MODIFIED:20160504T150451Z
UID:1281-1474675200-1474761599@specialolympicsns.ca
SUMMARY:5th Annual Truck Convoy
DESCRIPTION:2026 Truck Convoy in Support of Special Olympics Nova Scotia				\n				\n					\n				\n		\n					\n				\n				\n									The 15th Annual Truck Convoy in support of Special Olympics Nova Scotia will take place on Saturday\, October 3rd\, 2026. Truckers from Nova Scotia and beyond will unite with our partners in Law Enforcement (LETR) to support Special Olympics athletes.ONLINE REGISTRATION FOR THE 2026 TRUCK CONVOY IS NOW OPEN \n 								\n				\n					\n				\n		\n					\n				\n				\n					2026 Route				\n				\n					\n				\n		\n					\n				\n				\n																\n															\n															\n				\n					\n				\n				\n		Share this:\n				Share on Facebook (Opens in new window)\n				Facebook\n			\n				Share on X (Opens in new window)\n				X\n			\n				Share on LinkedIn (Opens in new window)\n				LinkedIn\n			\n				Share on Tumblr (Opens in new window)\n				Tumblr\n			\n				Share on Pinterest (Opens in new window)\n				Pinterest
URL:https://specialolympicsns.ca/event/5th-annual-truck-convoy/
LOCATION:Shearwater Nova Scotia
CATEGORIES:Fundraising
ATTACH;FMTTYPE=image/png:https://specialolympicsns.ca/wp-content/uploads/2016/05/Worlds-largest-Truck-Convoy5thAnniv.png
END:VEVENT
END:VCALENDAR