BEGIN:VCALENDAR
VERSION:2.0
PRODID:-//Special Olympics Nova Scotia - ECPv6.15.20//NONSGML v1.0//EN
CALSCALE:GREGORIAN
METHOD:PUBLISH
X-ORIGINAL-URL:https://specialolympicsns.ca
X-WR-CALDESC:Events for Special Olympics Nova Scotia
REFRESH-INTERVAL;VALUE=DURATION:PT1H
X-Robots-Tag:noindex
X-PUBLISHED-TTL:PT1H
BEGIN:VTIMEZONE
TZID:America/Halifax
BEGIN:DAYLIGHT
TZOFFSETFROM:-0400
TZOFFSETTO:-0300
TZNAME:ADT
DTSTART:20150308T060000
END:DAYLIGHT
BEGIN:STANDARD
TZOFFSETFROM:-0300
TZOFFSETTO:-0400
TZNAME:AST
DTSTART:20151101T050000
END:STANDARD
BEGIN:DAYLIGHT
TZOFFSETFROM:-0400
TZOFFSETTO:-0300
TZNAME:ADT
DTSTART:20160313T060000
END:DAYLIGHT
BEGIN:STANDARD
TZOFFSETFROM:-0300
TZOFFSETTO:-0400
TZNAME:AST
DTSTART:20161106T050000
END:STANDARD
BEGIN:DAYLIGHT
TZOFFSETFROM:-0400
TZOFFSETTO:-0300
TZNAME:ADT
DTSTART:20170312T060000
END:DAYLIGHT
BEGIN:STANDARD
TZOFFSETFROM:-0300
TZOFFSETTO:-0400
TZNAME:AST
DTSTART:20171105T050000
END:STANDARD
BEGIN:DAYLIGHT
TZOFFSETFROM:-0400
TZOFFSETTO:-0300
TZNAME:ADT
DTSTART:20180311T060000
END:DAYLIGHT
BEGIN:STANDARD
TZOFFSETFROM:-0300
TZOFFSETTO:-0400
TZNAME:AST
DTSTART:20181104T050000
END:STANDARD
BEGIN:DAYLIGHT
TZOFFSETFROM:-0400
TZOFFSETTO:-0300
TZNAME:ADT
DTSTART:20190310T060000
END:DAYLIGHT
BEGIN:STANDARD
TZOFFSETFROM:-0300
TZOFFSETTO:-0400
TZNAME:AST
DTSTART:20191103T050000
END:STANDARD
BEGIN:DAYLIGHT
TZOFFSETFROM:-0400
TZOFFSETTO:-0300
TZNAME:ADT
DTSTART:20200308T060000
END:DAYLIGHT
BEGIN:STANDARD
TZOFFSETFROM:-0300
TZOFFSETTO:-0400
TZNAME:AST
DTSTART:20201101T050000
END:STANDARD
BEGIN:DAYLIGHT
TZOFFSETFROM:-0400
TZOFFSETTO:-0300
TZNAME:ADT
DTSTART:20210314T060000
END:DAYLIGHT
BEGIN:STANDARD
TZOFFSETFROM:-0300
TZOFFSETTO:-0400
TZNAME:AST
DTSTART:20211107T050000
END:STANDARD
BEGIN:DAYLIGHT
TZOFFSETFROM:-0400
TZOFFSETTO:-0300
TZNAME:ADT
DTSTART:20220313T060000
END:DAYLIGHT
BEGIN:STANDARD
TZOFFSETFROM:-0300
TZOFFSETTO:-0400
TZNAME:AST
DTSTART:20221106T050000
END:STANDARD
BEGIN:DAYLIGHT
TZOFFSETFROM:-0400
TZOFFSETTO:-0300
TZNAME:ADT
DTSTART:20230312T060000
END:DAYLIGHT
BEGIN:STANDARD
TZOFFSETFROM:-0300
TZOFFSETTO:-0400
TZNAME:AST
DTSTART:20231105T050000
END:STANDARD
BEGIN:DAYLIGHT
TZOFFSETFROM:-0400
TZOFFSETTO:-0300
TZNAME:ADT
DTSTART:20240310T060000
END:DAYLIGHT
BEGIN:STANDARD
TZOFFSETFROM:-0300
TZOFFSETTO:-0400
TZNAME:AST
DTSTART:20241103T050000
END:STANDARD
BEGIN:DAYLIGHT
TZOFFSETFROM:-0400
TZOFFSETTO:-0300
TZNAME:ADT
DTSTART:20250309T060000
END:DAYLIGHT
BEGIN:STANDARD
TZOFFSETFROM:-0300
TZOFFSETTO:-0400
TZNAME:AST
DTSTART:20251102T050000
END:STANDARD
BEGIN:DAYLIGHT
TZOFFSETFROM:-0400
TZOFFSETTO:-0300
TZNAME:ADT
DTSTART:20260308T060000
END:DAYLIGHT
BEGIN:STANDARD
TZOFFSETFROM:-0300
TZOFFSETTO:-0400
TZNAME:AST
DTSTART:20261101T050000
END:STANDARD
END:VTIMEZONE
BEGIN:VEVENT
DTSTART;TZID=America/Halifax:20250724T180000
DTEND;TZID=America/Halifax:20250728T130000
DTSTAMP:20260423T052510
CREATED:20250324T175651Z
LAST-MODIFIED:20250718T193454Z
UID:15778-1753380000-1753707600@specialolympicsns.ca
SUMMARY:Nova Scotia Provincial Summer Games 2025
DESCRIPTION:  \nJoin us as we host over 9000 athletes\, coaches\, and staff for the 2025 Special Olympics Nova Scotia Provincial Summer Games at StFX University. \nThese games will serve as qualifiers for the 2026 National Summer Games taking place in Medicine Hat\, Alberta in  August 2026. \nJoin us for the Opening Ceremonies – Thursday\, July 24 at 7:00pm in the Keating Centre!  Competitions start Friday morning through Sunday at noon.  \nInterested in volunteering at the Provincial Summer GamesRegister today – https://forms.gle/JwTinq4monEfdJddA  \nQuestions – email  Krista Wadman kwadman@specialolympicsns.ca 								\n				\n				\n				\n																														\n				\n					\n				\n				\n		Share this:\n				Share on Facebook (Opens in new window)\n				Facebook\n			\n				Share on X (Opens in new window)\n				X\n			\n				Share on LinkedIn (Opens in new window)\n				LinkedIn\n			\n				Share on Tumblr (Opens in new window)\n				Tumblr\n			\n				Share on Pinterest (Opens in new window)\n				Pinterest
URL:https://specialolympicsns.ca/event/nova-scotia-provincial-summer-games-2025/
LOCATION:St. Francis Xavier University\, 4130 University Ave.\, Antigonish\, Nova Scotia\, B2G 2W5\, Canada
CATEGORIES:Sport Competition
END:VEVENT
BEGIN:VEVENT
DTSTART;VALUE=DATE:20220715
DTEND;VALUE=DATE:20220718
DTSTAMP:20260423T052510
CREATED:20220713T152932Z
LAST-MODIFIED:20220713T153718Z
UID:10943-1657843200-1658102399@specialolympicsns.ca
SUMMARY:SONS Provincial Summer Games - St. FX University
DESCRIPTION:  \nJoin us as we host over 9000 athletes\, coaches\, and staff for the 2025 Special Olympics Nova Scotia Provincial Summer Games at StFX University. \nThese games will serve as qualifiers for the 2026 National Summer Games taking place in Medicine Hat\, Alberta in  August 2026. \nJoin us for the Opening Ceremonies – Thursday\, July 24 at 7:00pm in the Keating Centre!  Competitions start Friday morning through Sunday at noon.  \nInterested in volunteering at the Provincial Summer GamesRegister today – https://forms.gle/JwTinq4monEfdJddA  \nQuestions – email  Krista Wadman kwadman@specialolympicsns.ca 								\n				\n				\n				\n																														\n				\n					\n				\n				\n		Share this:\n				Share on Facebook (Opens in new window)\n				Facebook\n			\n				Share on X (Opens in new window)\n				X\n			\n				Share on LinkedIn (Opens in new window)\n				LinkedIn\n			\n				Share on Tumblr (Opens in new window)\n				Tumblr\n			\n				Share on Pinterest (Opens in new window)\n				Pinterest
URL:https://specialolympicsns.ca/event/sons-provincial-summer-games-st-fx-university/
LOCATION:St. Francis Xavier University\, 4130 University Ave.\, Antigonish\, Nova Scotia\, B2G 2W5\, Canada
CATEGORIES:Sport Competition
END:VEVENT
BEGIN:VEVENT
DTSTART;VALUE=DATE:20190712
DTEND;VALUE=DATE:20190715
DTSTAMP:20260423T052510
CREATED:20190307T134441Z
LAST-MODIFIED:20190709T183636Z
UID:3284-1562889600-1563148799@specialolympicsns.ca
SUMMARY:SONS Provincial Summer Games - Acadia University
DESCRIPTION:  \nJoin us as we host over 9000 athletes\, coaches\, and staff for the 2025 Special Olympics Nova Scotia Provincial Summer Games at StFX University. \nThese games will serve as qualifiers for the 2026 National Summer Games taking place in Medicine Hat\, Alberta in  August 2026. \nJoin us for the Opening Ceremonies – Thursday\, July 24 at 7:00pm in the Keating Centre!  Competitions start Friday morning through Sunday at noon.  \nInterested in volunteering at the Provincial Summer GamesRegister today – https://forms.gle/JwTinq4monEfdJddA  \nQuestions – email  Krista Wadman kwadman@specialolympicsns.ca 								\n				\n				\n				\n																														\n				\n					\n				\n				\n		Share this:\n				Share on Facebook (Opens in new window)\n				Facebook\n			\n				Share on X (Opens in new window)\n				X\n			\n				Share on LinkedIn (Opens in new window)\n				LinkedIn\n			\n				Share on Tumblr (Opens in new window)\n				Tumblr\n			\n				Share on Pinterest (Opens in new window)\n				Pinterest
URL:https://specialolympicsns.ca/event/sons-provincial-summer-games/
LOCATION:Acadia University
CATEGORIES:Sport Competition
ATTACH;FMTTYPE=image/png:https://specialolympicsns.ca/wp-content/uploads/2018/06/sons.png
END:VEVENT
BEGIN:VEVENT
DTSTART;TZID=America/Halifax:20180731T080000
DTEND;TZID=America/Halifax:20180804T170000
DTSTAMP:20260423T052510
CREATED:20180621T191958Z
LAST-MODIFIED:20180621T192133Z
UID:2513-1533024000-1533402000@specialolympicsns.ca
SUMMARY:National Summer Games #SO2018 In Antigonish!
DESCRIPTION:  \nJoin us as we host over 9000 athletes\, coaches\, and staff for the 2025 Special Olympics Nova Scotia Provincial Summer Games at StFX University. \nThese games will serve as qualifiers for the 2026 National Summer Games taking place in Medicine Hat\, Alberta in  August 2026. \nJoin us for the Opening Ceremonies – Thursday\, July 24 at 7:00pm in the Keating Centre!  Competitions start Friday morning through Sunday at noon.  \nInterested in volunteering at the Provincial Summer GamesRegister today – https://forms.gle/JwTinq4monEfdJddA  \nQuestions – email  Krista Wadman kwadman@specialolympicsns.ca 								\n				\n				\n				\n																														\n				\n					\n				\n				\n		Share this:\n				Share on Facebook (Opens in new window)\n				Facebook\n			\n				Share on X (Opens in new window)\n				X\n			\n				Share on LinkedIn (Opens in new window)\n				LinkedIn\n			\n				Share on Tumblr (Opens in new window)\n				Tumblr\n			\n				Share on Pinterest (Opens in new window)\n				Pinterest
URL:https://specialolympicsns.ca/event/national-summer-games-so2018-in-antigonish/
LOCATION:Nova Scotia
CATEGORIES:Sport Competition
ATTACH;FMTTYPE=image/png:https://specialolympicsns.ca/wp-content/uploads/2018/05/so2018-signup.png
END:VEVENT
BEGIN:VEVENT
DTSTART;VALUE=DATE:20180609
DTEND;VALUE=DATE:20180610
DTSTAMP:20260423T052510
CREATED:20180609T122331Z
LAST-MODIFIED:20180610T150737Z
UID:2340-1528502400-1528588799@specialolympicsns.ca
SUMMARY:Day 2 NS Provincial Summer Games
DESCRIPTION:  \nJoin us as we host over 9000 athletes\, coaches\, and staff for the 2025 Special Olympics Nova Scotia Provincial Summer Games at StFX University. \nThese games will serve as qualifiers for the 2026 National Summer Games taking place in Medicine Hat\, Alberta in  August 2026. \nJoin us for the Opening Ceremonies – Thursday\, July 24 at 7:00pm in the Keating Centre!  Competitions start Friday morning through Sunday at noon.  \nInterested in volunteering at the Provincial Summer GamesRegister today – https://forms.gle/JwTinq4monEfdJddA  \nQuestions – email  Krista Wadman kwadman@specialolympicsns.ca 								\n				\n				\n				\n																														\n				\n					\n				\n				\n		Share this:\n				Share on Facebook (Opens in new window)\n				Facebook\n			\n				Share on X (Opens in new window)\n				X\n			\n				Share on LinkedIn (Opens in new window)\n				LinkedIn\n			\n				Share on Tumblr (Opens in new window)\n				Tumblr\n			\n				Share on Pinterest (Opens in new window)\n				Pinterest
URL:https://specialolympicsns.ca/event/day-2-ns-provincial-summer-games/
LOCATION:Saint Mary’s University – Homburg Centre\, 920 Tower Road\, Halifax\, NS\, B3H 3C3\, Canada
CATEGORIES:Sport Competition
ATTACH;FMTTYPE=image/png:https://specialolympicsns.ca/wp-content/uploads/2018/06/Sat-june-9-SONS-Schedule-.png
END:VEVENT
BEGIN:VEVENT
DTSTART;TZID=America/Halifax:20180608T170000
DTEND;TZID=America/Halifax:20180610T150000
DTSTAMP:20260423T052510
CREATED:20180412T185550Z
LAST-MODIFIED:20180610T150804Z
UID:2061-1528477200-1528642800@specialolympicsns.ca
SUMMARY:2018 Provincial Summer Games
DESCRIPTION:  \nJoin us as we host over 9000 athletes\, coaches\, and staff for the 2025 Special Olympics Nova Scotia Provincial Summer Games at StFX University. \nThese games will serve as qualifiers for the 2026 National Summer Games taking place in Medicine Hat\, Alberta in  August 2026. \nJoin us for the Opening Ceremonies – Thursday\, July 24 at 7:00pm in the Keating Centre!  Competitions start Friday morning through Sunday at noon.  \nInterested in volunteering at the Provincial Summer GamesRegister today – https://forms.gle/JwTinq4monEfdJddA  \nQuestions – email  Krista Wadman kwadman@specialolympicsns.ca 								\n				\n				\n				\n																														\n				\n					\n				\n				\n		Share this:\n				Share on Facebook (Opens in new window)\n				Facebook\n			\n				Share on X (Opens in new window)\n				X\n			\n				Share on LinkedIn (Opens in new window)\n				LinkedIn\n			\n				Share on Tumblr (Opens in new window)\n				Tumblr\n			\n				Share on Pinterest (Opens in new window)\n				Pinterest
URL:https://specialolympicsns.ca/event/summer-games/
LOCATION:Nova Scotia
CATEGORIES:Sport Competition
ATTACH;FMTTYPE=image/png:https://specialolympicsns.ca/wp-content/uploads/2018/06/Sun-June-10-SONS-prov-Schedule.png
END:VEVENT
BEGIN:VEVENT
DTSTART;TZID=America/Halifax:20160708T170000
DTEND;TZID=America/Halifax:20160710T150000
DTSTAMP:20260423T052510
CREATED:20160504T154726Z
LAST-MODIFIED:20160613T132436Z
UID:1308-1467997200-1468162800@specialolympicsns.ca
SUMMARY:Provincial Summer Games
DESCRIPTION:  \nJoin us as we host over 9000 athletes\, coaches\, and staff for the 2025 Special Olympics Nova Scotia Provincial Summer Games at StFX University. \nThese games will serve as qualifiers for the 2026 National Summer Games taking place in Medicine Hat\, Alberta in  August 2026. \nJoin us for the Opening Ceremonies – Thursday\, July 24 at 7:00pm in the Keating Centre!  Competitions start Friday morning through Sunday at noon.  \nInterested in volunteering at the Provincial Summer GamesRegister today – https://forms.gle/JwTinq4monEfdJddA  \nQuestions – email  Krista Wadman kwadman@specialolympicsns.ca 								\n				\n				\n				\n																														\n				\n					\n				\n				\n		Share this:\n				Share on Facebook (Opens in new window)\n				Facebook\n			\n				Share on X (Opens in new window)\n				X\n			\n				Share on LinkedIn (Opens in new window)\n				LinkedIn\n			\n				Share on Tumblr (Opens in new window)\n				Tumblr\n			\n				Share on Pinterest (Opens in new window)\n				Pinterest
URL:https://specialolympicsns.ca/event/provincial-summer-games/
LOCATION:Nova Scotia
CATEGORIES:Sport Competition
ATTACH;FMTTYPE=image/jpeg:https://specialolympicsns.ca/wp-content/uploads/2016/05/OC-image.jpg
END:VEVENT
BEGIN:VEVENT
DTSTART;TZID=America/Halifax:20160525T120000
DTEND;TZID=America/Halifax:20160525T140000
DTSTAMP:20260423T052510
CREATED:20160504T181751Z
LAST-MODIFIED:20160504T181751Z
UID:1314-1464177600-1464184800@specialolympicsns.ca
SUMMARY:Play Unified Celebration
DESCRIPTION:  \nJoin us as we host over 9000 athletes\, coaches\, and staff for the 2025 Special Olympics Nova Scotia Provincial Summer Games at StFX University. \nThese games will serve as qualifiers for the 2026 National Summer Games taking place in Medicine Hat\, Alberta in  August 2026. \nJoin us for the Opening Ceremonies – Thursday\, July 24 at 7:00pm in the Keating Centre!  Competitions start Friday morning through Sunday at noon.  \nInterested in volunteering at the Provincial Summer GamesRegister today – https://forms.gle/JwTinq4monEfdJddA  \nQuestions – email  Krista Wadman kwadman@specialolympicsns.ca 								\n				\n				\n				\n																														\n				\n					\n				\n				\n		Share this:\n				Share on Facebook (Opens in new window)\n				Facebook\n			\n				Share on X (Opens in new window)\n				X\n			\n				Share on LinkedIn (Opens in new window)\n				LinkedIn\n			\n				Share on Tumblr (Opens in new window)\n				Tumblr\n			\n				Share on Pinterest (Opens in new window)\n				Pinterest
URL:https://specialolympicsns.ca/event/play-unified-celebration/
LOCATION:Horton High School
CATEGORIES:Sport Competition
ATTACH;FMTTYPE=image/png:https://specialolympicsns.ca/wp-content/uploads/2016/05/SO_Unified-Sports__4Line_Col-e1485269613638.png
END:VEVENT
END:VCALENDAR