BEGIN:VCALENDAR
VERSION:2.0
PRODID:-//Special Olympics Nova Scotia - ECPv6.15.20//NONSGML v1.0//EN
CALSCALE:GREGORIAN
METHOD:PUBLISH
X-WR-CALNAME:Special Olympics Nova Scotia
X-ORIGINAL-URL:https://specialolympicsns.ca
X-WR-CALDESC:Events for Special Olympics Nova Scotia
REFRESH-INTERVAL;VALUE=DURATION:PT1H
X-Robots-Tag:noindex
X-PUBLISHED-TTL:PT1H
BEGIN:VTIMEZONE
TZID:America/Halifax
BEGIN:DAYLIGHT
TZOFFSETFROM:-0400
TZOFFSETTO:-0300
TZNAME:ADT
DTSTART:20150308T060000
END:DAYLIGHT
BEGIN:STANDARD
TZOFFSETFROM:-0300
TZOFFSETTO:-0400
TZNAME:AST
DTSTART:20151101T050000
END:STANDARD
BEGIN:DAYLIGHT
TZOFFSETFROM:-0400
TZOFFSETTO:-0300
TZNAME:ADT
DTSTART:20160313T060000
END:DAYLIGHT
BEGIN:STANDARD
TZOFFSETFROM:-0300
TZOFFSETTO:-0400
TZNAME:AST
DTSTART:20161106T050000
END:STANDARD
BEGIN:DAYLIGHT
TZOFFSETFROM:-0400
TZOFFSETTO:-0300
TZNAME:ADT
DTSTART:20170312T060000
END:DAYLIGHT
BEGIN:STANDARD
TZOFFSETFROM:-0300
TZOFFSETTO:-0400
TZNAME:AST
DTSTART:20171105T050000
END:STANDARD
BEGIN:DAYLIGHT
TZOFFSETFROM:-0400
TZOFFSETTO:-0300
TZNAME:ADT
DTSTART:20180311T060000
END:DAYLIGHT
BEGIN:STANDARD
TZOFFSETFROM:-0300
TZOFFSETTO:-0400
TZNAME:AST
DTSTART:20181104T050000
END:STANDARD
BEGIN:DAYLIGHT
TZOFFSETFROM:-0400
TZOFFSETTO:-0300
TZNAME:ADT
DTSTART:20190310T060000
END:DAYLIGHT
BEGIN:STANDARD
TZOFFSETFROM:-0300
TZOFFSETTO:-0400
TZNAME:AST
DTSTART:20191103T050000
END:STANDARD
BEGIN:DAYLIGHT
TZOFFSETFROM:-0400
TZOFFSETTO:-0300
TZNAME:ADT
DTSTART:20200308T060000
END:DAYLIGHT
BEGIN:STANDARD
TZOFFSETFROM:-0300
TZOFFSETTO:-0400
TZNAME:AST
DTSTART:20201101T050000
END:STANDARD
END:VTIMEZONE
BEGIN:VEVENT
DTSTART;TZID=America/Halifax:20191212T153000
DTEND;TZID=America/Halifax:20191212T183000
DTSTAMP:20260421T122756
CREATED:20191118T004208Z
LAST-MODIFIED:20191125T200757Z
UID:3825-1576164600-1576175400@specialolympicsns.ca
SUMMARY:You're Invited to our Open House!
DESCRIPTION:Everyone is welcome on December 12th from 3:30 – 6:30 pm as we invite you to celebrate with us at our open house and thank those who played a part in making this new office space a reality. \nPlease drop in and say hello\, we are in a ground level office at 371 St. Margarets Bay Road in Halifax.  We look forward to see you! \nShare this:\n				Share on Facebook (Opens in new window)\n				Facebook\n			\n				Share on X (Opens in new window)\n				X\n			\n				Share on LinkedIn (Opens in new window)\n				LinkedIn\n			\n				Share on Tumblr (Opens in new window)\n				Tumblr\n			\n				Share on Pinterest (Opens in new window)\n				Pinterest
URL:https://specialolympicsns.ca/event/you-are-invited-to-our-open-house/
LOCATION:SONS Office\, 371 St. Margarets Bay Road\, Halifax\, Nova Scotia\, B3N 1J8\, Canada
CATEGORIES:Orgnizational
END:VEVENT
BEGIN:VEVENT
DTSTART;TZID=America/Halifax:20180727T090000
DTEND;TZID=America/Halifax:20180727T100000
DTSTAMP:20260421T122756
CREATED:20180621T190733Z
LAST-MODIFIED:20180726T192801Z
UID:2505-1532682000-1532685600@specialolympicsns.ca
SUMMARY:LETR Flame of Hope Run Starts July 27
DESCRIPTION:Join Us as our LETR Friends Launch their Flame Of Hope Run \nShare this:\n				Share on Facebook (Opens in new window)\n				Facebook\n			\n				Share on X (Opens in new window)\n				X\n			\n				Share on LinkedIn (Opens in new window)\n				LinkedIn\n			\n				Share on Tumblr (Opens in new window)\n				Tumblr\n			\n				Share on Pinterest (Opens in new window)\n				Pinterest
URL:https://specialolympicsns.ca/event/letr-flame-of-hope-run-2/
LOCATION:Halifax Grand Parade Square\, 1770 Barrington St\, Halifax\, Nova Scotia\, Canada
CATEGORIES:Orgnizational
ATTACH;FMTTYPE=image/png:https://specialolympicsns.ca/wp-content/uploads/2018/07/Screen-Shot-2018-07-24-at-4.58.04-PM.png
END:VEVENT
BEGIN:VEVENT
DTSTART;VALUE=DATE:20180721
DTEND;VALUE=DATE:20180722
DTSTAMP:20260421T122756
CREATED:20180621T181017Z
LAST-MODIFIED:20180621T181151Z
UID:2503-1532131200-1532217599@specialolympicsns.ca
SUMMARY:Day of Inclusion 2018
DESCRIPTION:Share this:\n				Share on Facebook (Opens in new window)\n				Facebook\n			\n				Share on X (Opens in new window)\n				X\n			\n				Share on LinkedIn (Opens in new window)\n				LinkedIn\n			\n				Share on Tumblr (Opens in new window)\n				Tumblr\n			\n				Share on Pinterest (Opens in new window)\n				Pinterest
URL:https://specialolympicsns.ca/event/day-of-inclusion-2018/
LOCATION:Nova Scotia
CATEGORIES:Orgnizational
END:VEVENT
BEGIN:VEVENT
DTSTART;TZID=America/Halifax:20160513T170000
DTEND;TZID=America/Halifax:20160514T170000
DTSTAMP:20260421T122756
CREATED:20160504T173213Z
LAST-MODIFIED:20160504T173213Z
UID:1313-1463158800-1463245200@specialolympicsns.ca
SUMMARY:Provincial Leadership Conference
DESCRIPTION:The semi-annual provincial leadership conference and LETR meetings @ Acadia University \nContact:  Matt Quinn (902) 429-2266 x 2 \nShare this:\n				Share on Facebook (Opens in new window)\n				Facebook\n			\n				Share on X (Opens in new window)\n				X\n			\n				Share on LinkedIn (Opens in new window)\n				LinkedIn\n			\n				Share on Tumblr (Opens in new window)\n				Tumblr\n			\n				Share on Pinterest (Opens in new window)\n				Pinterest
URL:https://specialolympicsns.ca/event/provincial-leadership-conference/
LOCATION:Nova Scotia
CATEGORIES:Orgnizational
END:VEVENT
END:VCALENDAR